BEGIN:VCALENDAR
VERSION:2.0
PRODID:-//Visit Ilfracombe - ECPv6.15.15//NONSGML v1.0//EN
CALSCALE:GREGORIAN
METHOD:PUBLISH
X-WR-CALNAME:Visit Ilfracombe
X-ORIGINAL-URL:https://www.visitilfracombe.co.uk
X-WR-CALDESC:Events for Visit Ilfracombe
REFRESH-INTERVAL;VALUE=DURATION:PT1H
X-Robots-Tag:noindex
X-PUBLISHED-TTL:PT1H
BEGIN:VTIMEZONE
TZID:Europe/London
BEGIN:DAYLIGHT
TZOFFSETFROM:+0000
TZOFFSETTO:+0100
TZNAME:BST
DTSTART:20240331T010000
END:DAYLIGHT
BEGIN:STANDARD
TZOFFSETFROM:+0100
TZOFFSETTO:+0000
TZNAME:GMT
DTSTART:20241027T010000
END:STANDARD
BEGIN:DAYLIGHT
TZOFFSETFROM:+0000
TZOFFSETTO:+0100
TZNAME:BST
DTSTART:20250330T010000
END:DAYLIGHT
BEGIN:STANDARD
TZOFFSETFROM:+0100
TZOFFSETTO:+0000
TZNAME:GMT
DTSTART:20251026T010000
END:STANDARD
BEGIN:DAYLIGHT
TZOFFSETFROM:+0000
TZOFFSETTO:+0100
TZNAME:BST
DTSTART:20260329T010000
END:DAYLIGHT
BEGIN:STANDARD
TZOFFSETFROM:+0100
TZOFFSETTO:+0000
TZNAME:GMT
DTSTART:20261025T010000
END:STANDARD
END:VTIMEZONE
BEGIN:VEVENT
DTSTART;TZID=Europe/London:20250803T110000
DTEND;TZID=Europe/London:20250803T160000
DTSTAMP:20260423T114154
CREATED:20250720T102134Z
LAST-MODIFIED:20250730T081149Z
UID:10002455-1754218800-1754236800@www.visitilfracombe.co.uk
SUMMARY:Arts & Crafts Fair
DESCRIPTION:Beautiful local art and crafts\, perfect for a gift or as a treat for yourself.\nLight refreshments available. Both cash and card payments are accepted.\nCar park adjacent to the Memorial Hall (cash payments in the honesty box by the entrance or pay by card at the Old Schoolroom Craft Gallery opposite).\nEveryone will be made most welcome.
URL:https://www.visitilfracombe.co.uk/event/arts-crafts-fair/2025-08-03/
LOCATION:Lee Memorial Hall\, Lee\, EX34 8LW
CATEGORIES:Ilfracombe Events
ATTACH;FMTTYPE=image/jpeg:https://www.visitilfracombe.co.uk/wp-content/uploads/2025/07/Lee-517391418_23967228826218863_254301904626098003_n.jpg
END:VEVENT
END:VCALENDAR