BEGIN:VCALENDAR
VERSION:2.0
PRODID:-//Visit Ilfracombe - ECPv6.15.15//NONSGML v1.0//EN
CALSCALE:GREGORIAN
METHOD:PUBLISH
X-WR-CALNAME:Visit Ilfracombe
X-ORIGINAL-URL:https://www.visitilfracombe.co.uk
X-WR-CALDESC:Events for Visit Ilfracombe
REFRESH-INTERVAL;VALUE=DURATION:PT1H
X-Robots-Tag:noindex
X-PUBLISHED-TTL:PT1H
BEGIN:VTIMEZONE
TZID:Europe/London
BEGIN:DAYLIGHT
TZOFFSETFROM:+0000
TZOFFSETTO:+0100
TZNAME:BST
DTSTART:20240331T010000
END:DAYLIGHT
BEGIN:STANDARD
TZOFFSETFROM:+0100
TZOFFSETTO:+0000
TZNAME:GMT
DTSTART:20241027T010000
END:STANDARD
BEGIN:DAYLIGHT
TZOFFSETFROM:+0000
TZOFFSETTO:+0100
TZNAME:BST
DTSTART:20250330T010000
END:DAYLIGHT
BEGIN:STANDARD
TZOFFSETFROM:+0100
TZOFFSETTO:+0000
TZNAME:GMT
DTSTART:20251026T010000
END:STANDARD
BEGIN:DAYLIGHT
TZOFFSETFROM:+0000
TZOFFSETTO:+0100
TZNAME:BST
DTSTART:20260329T010000
END:DAYLIGHT
BEGIN:STANDARD
TZOFFSETFROM:+0100
TZOFFSETTO:+0000
TZNAME:GMT
DTSTART:20261025T010000
END:STANDARD
END:VTIMEZONE
BEGIN:VEVENT
DTSTART;TZID=Europe/London:20251022T093000
DTEND;TZID=Europe/London:20251022T150000
DTSTAMP:20260422T200545
CREATED:20250930T084804Z
LAST-MODIFIED:20251018T075941Z
UID:48848-1761125400-1761145200@www.visitilfracombe.co.uk
SUMMARY:Halloween Toddler Takeover
DESCRIPTION:5 Days of Spooktacular Fun \nDig out your best Halloween costumes and bring your little monsters along to our Halloween Bash with Jiggy Wrigglers and Barnwood Bears! \nCreepy Craft Creations \nJiggy Wrigglers Monster Ball \nPumpkin Patch & Photo Opportunities \nThrilling Rides & Gentle Rides \nBottle Feed the hungry Lambs \nAnimal Magic & Pet Encounters \n  \n Join Barnwood Bears in the enchanted woods… \nMix up Pumpkin Soup in the Mud Kitchen \nSpooky Spider Hunt on the giant web  \nHalloween Crafts to take home  \nStir up Witches Potion  \nPumpkin Painting
URL:https://www.visitilfracombe.co.uk/event/48848/
LOCATION:The Big Sheep\, The Big Sheep\, Abbotsham Rd\, Abbotsham\, Bideford\, Devon\, EX39 5AP\, United Kingdom
CATEGORIES:North Devon Events
ATTACH;FMTTYPE=image/jpeg:https://www.visitilfracombe.co.uk/wp-content/uploads/2025/09/Toddler-Halloween-Toddler-Takeover-image-4.jpg
END:VEVENT
END:VCALENDAR